BEGIN:VCALENDAR
VERSION:2.0
PRODID:-//WhenKickoff//Match Reminder//EN
BEGIN:VEVENT
UID:wk-537039-15@whenkickoff.com
DTSTAMP:20260420T175319Z
DTSTART:20260130T194500Z
DTEND:20260130T214500Z
SUMMARY:SS Lazio vs Genoa CFC
DESCRIPTION:WhenKickoff reminder for SS Lazio vs Genoa CFC
URL:https://whenkickoff.com/en/match/ss-lazio-vs-genoa-cfc-537039/
BEGIN:VALARM
TRIGGER:-PT15M
ACTION:DISPLAY
DESCRIPTION:Match starts soon
END:VALARM
END:VEVENT
END:VCALENDAR
