BEGIN:VCALENDAR
VERSION:2.0
PRODID:-//WhenKickoff//Match Reminder//EN
BEGIN:VEVENT
UID:wk-537037-15@whenkickoff.com
DTSTAMP:20260420T140224Z
DTSTART:20260203T194500Z
DTEND:20260203T214500Z
SUMMARY:Bologna FC 1909 vs AC Milan
DESCRIPTION:WhenKickoff reminder for Bologna FC 1909 vs AC Milan
URL:https://whenkickoff.com/en/match/bologna-fc-1909-vs-ac-milan-537037/
BEGIN:VALARM
TRIGGER:-PT15M
ACTION:DISPLAY
DESCRIPTION:Match starts soon
END:VALARM
END:VEVENT
END:VCALENDAR
