BEGIN:VCALENDAR
VERSION:2.0
PRODID:-//WhenKickoff//Match Reminder//EN
BEGIN:VEVENT
UID:wk-537035-15@whenkickoff.com
DTSTAMP:20260420T164625Z
DTSTART:20260131T194500Z
DTEND:20260131T214500Z
SUMMARY:Cagliari Calcio vs Hellas Verona FC
DESCRIPTION:WhenKickoff reminder for Cagliari Calcio vs Hellas Verona FC
URL:https://whenkickoff.com/en/match/cagliari-calcio-vs-hellas-verona-fc-537035/
BEGIN:VALARM
TRIGGER:-PT15M
ACTION:DISPLAY
DESCRIPTION:Match starts soon
END:VALARM
END:VEVENT
END:VCALENDAR
