BEGIN:VCALENDAR
VERSION:2.0
PRODID:-//WhenKickoff//Match Reminder//EN
BEGIN:VEVENT
UID:wk-537034-15@whenkickoff.com
DTSTAMP:20260420T185318Z
DTSTART:20260124T194500Z
DTEND:20260124T214500Z
SUMMARY:US Lecce vs SS Lazio
DESCRIPTION:WhenKickoff reminder for US Lecce vs SS Lazio
URL:https://whenkickoff.com/en/match/us-lecce-vs-ss-lazio-537034/
BEGIN:VALARM
TRIGGER:-PT15M
ACTION:DISPLAY
DESCRIPTION:Match starts soon
END:VALARM
END:VEVENT
END:VCALENDAR
