BEGIN:VCALENDAR
VERSION:2.0
PRODID:-//WhenKickoff//Match Reminder//EN
BEGIN:VEVENT
UID:wk-537033-15@whenkickoff.com
DTSTAMP:20260420T173857Z
DTSTART:20260125T113000Z
DTEND:20260125T133000Z
SUMMARY:US Sassuolo Calcio vs US Cremonese
DESCRIPTION:WhenKickoff reminder for US Sassuolo Calcio vs US Cremonese
URL:https://whenkickoff.com/en/match/us-sassuolo-calcio-vs-us-cremonese-537033/
BEGIN:VALARM
TRIGGER:-PT15M
ACTION:DISPLAY
DESCRIPTION:Match starts soon
END:VALARM
END:VEVENT
END:VCALENDAR
