BEGIN:VCALENDAR
VERSION:2.0
PRODID:-//WhenKickoff//Match Reminder//EN
BEGIN:VEVENT
UID:wk-537028-15@whenkickoff.com
DTSTAMP:20260420T173855Z
DTSTART:20260125T140000Z
DTEND:20260125T160000Z
SUMMARY:Genoa CFC vs Bologna FC 1909
DESCRIPTION:WhenKickoff reminder for Genoa CFC vs Bologna FC 1909
URL:https://whenkickoff.com/en/match/genoa-cfc-vs-bologna-fc-1909-537028/
BEGIN:VALARM
TRIGGER:-PT15M
ACTION:DISPLAY
DESCRIPTION:Match starts soon
END:VALARM
END:VEVENT
END:VCALENDAR
