BEGIN:VCALENDAR
VERSION:2.0
PRODID:-//WhenKickoff//Match Reminder//EN
BEGIN:VEVENT
UID:wk-537024-15@whenkickoff.com
DTSTAMP:20260420T124730Z
DTSTART:20260119T173000Z
DTEND:20260119T193000Z
SUMMARY:US Cremonese vs Hellas Verona FC
DESCRIPTION:WhenKickoff reminder for US Cremonese vs Hellas Verona FC
URL:https://whenkickoff.com/en/match/us-cremonese-vs-hellas-verona-fc-537024/
BEGIN:VALARM
TRIGGER:-PT15M
ACTION:DISPLAY
DESCRIPTION:Match starts soon
END:VALARM
END:VEVENT
END:VCALENDAR
