BEGIN:VCALENDAR
VERSION:2.0
PRODID:-//WhenKickoff//Match Reminder//EN
BEGIN:VEVENT
UID:wk-537023-15@whenkickoff.com
DTSTAMP:20260420T110735Z
DTSTART:20260117T140000Z
DTEND:20260117T160000Z
SUMMARY:Udinese Calcio vs FC Internazionale Milano
DESCRIPTION:WhenKickoff reminder for Udinese Calcio vs FC Internazionale Milano
URL:https://whenkickoff.com/en/match/udinese-calcio-vs-fc-internazionale-milano-537023/
BEGIN:VALARM
TRIGGER:-PT15M
ACTION:DISPLAY
DESCRIPTION:Match starts soon
END:VALARM
END:VEVENT
END:VCALENDAR
