BEGIN:VCALENDAR
VERSION:2.0
PRODID:-//WhenKickoff//Match Reminder//EN
BEGIN:VEVENT
UID:wk-537022-15@whenkickoff.com
DTSTAMP:20260420T124625Z
DTSTART:20260117T170000Z
DTEND:20260117T190000Z
SUMMARY:SSC Napoli vs US Sassuolo Calcio
DESCRIPTION:WhenKickoff reminder for SSC Napoli vs US Sassuolo Calcio
URL:https://whenkickoff.com/en/match/ssc-napoli-vs-us-sassuolo-calcio-537022/
BEGIN:VALARM
TRIGGER:-PT15M
ACTION:DISPLAY
DESCRIPTION:Match starts soon
END:VALARM
END:VEVENT
END:VCALENDAR
