BEGIN:VCALENDAR
VERSION:2.0
PRODID:-//WhenKickoff//Match Reminder//EN
BEGIN:VEVENT
UID:wk-537020-15@whenkickoff.com
DTSTAMP:20260420T124730Z
DTSTART:20260118T113000Z
DTEND:20260118T133000Z
SUMMARY:Parma Calcio 1913 vs Genoa CFC
DESCRIPTION:WhenKickoff reminder for Parma Calcio 1913 vs Genoa CFC
URL:https://whenkickoff.com/en/match/parma-calcio-1913-vs-genoa-cfc-537020/
BEGIN:VALARM
TRIGGER:-PT15M
ACTION:DISPLAY
DESCRIPTION:Match starts soon
END:VALARM
END:VEVENT
END:VCALENDAR
