BEGIN:VCALENDAR
VERSION:2.0
PRODID:-//WhenKickoff//Match Reminder//EN
BEGIN:VEVENT
UID:wk-537018-15@whenkickoff.com
DTSTAMP:20260420T102834Z
DTSTART:20260118T170000Z
DTEND:20260118T190000Z
SUMMARY:Torino FC vs AS Roma
DESCRIPTION:WhenKickoff reminder for Torino FC vs AS Roma
URL:https://whenkickoff.com/en/match/torino-fc-vs-as-roma-537018/
BEGIN:VALARM
TRIGGER:-PT15M
ACTION:DISPLAY
DESCRIPTION:Match starts soon
END:VALARM
END:VEVENT
END:VCALENDAR
