BEGIN:VCALENDAR
VERSION:2.0
PRODID:-//WhenKickoff//Match Reminder//EN
BEGIN:VEVENT
UID:wk-537017-15@whenkickoff.com
DTSTAMP:20260420T105541Z
DTSTART:20260118T140000Z
DTEND:20260118T160000Z
SUMMARY:Bologna FC 1909 vs ACF Fiorentina
DESCRIPTION:WhenKickoff reminder for Bologna FC 1909 vs ACF Fiorentina
URL:https://whenkickoff.com/en/match/bologna-fc-1909-vs-acf-fiorentina-537017/
BEGIN:VALARM
TRIGGER:-PT15M
ACTION:DISPLAY
DESCRIPTION:Match starts soon
END:VALARM
END:VEVENT
END:VCALENDAR
