BEGIN:VCALENDAR
VERSION:2.0
PRODID:-//WhenKickoff//Match Reminder//EN
BEGIN:VEVENT
UID:wk-537015-15@whenkickoff.com
DTSTAMP:20260420T121859Z
DTSTART:20260118T194500Z
DTEND:20260118T214500Z
SUMMARY:AC Milan vs US Lecce
DESCRIPTION:WhenKickoff reminder for AC Milan vs US Lecce
URL:https://whenkickoff.com/en/match/ac-milan-vs-us-lecce-537015/
BEGIN:VALARM
TRIGGER:-PT15M
ACTION:DISPLAY
DESCRIPTION:Match starts soon
END:VALARM
END:VEVENT
END:VCALENDAR
