BEGIN:VCALENDAR
VERSION:2.0
PRODID:-//WhenKickoff//Match Reminder//EN
BEGIN:VEVENT
UID:wk-537014-15@whenkickoff.com
DTSTAMP:20260420T121900Z
DTSTART:20260111T113000Z
DTEND:20260111T133000Z
SUMMARY:US Lecce vs Parma Calcio 1913
DESCRIPTION:WhenKickoff reminder for US Lecce vs Parma Calcio 1913
URL:https://whenkickoff.com/en/match/us-lecce-vs-parma-calcio-1913-537014/
BEGIN:VALARM
TRIGGER:-PT15M
ACTION:DISPLAY
DESCRIPTION:Match starts soon
END:VALARM
END:VEVENT
END:VCALENDAR
