BEGIN:VCALENDAR
VERSION:2.0
PRODID:-//WhenKickoff//Match Reminder//EN
BEGIN:VEVENT
UID:wk-537013-15@whenkickoff.com
DTSTAMP:20260420T141503Z
DTSTART:20260110T140000Z
DTEND:20260110T160000Z
SUMMARY:Udinese Calcio vs AC Pisa 1909
DESCRIPTION:WhenKickoff reminder for Udinese Calcio vs AC Pisa 1909
URL:https://whenkickoff.com/en/match/udinese-calcio-vs-ac-pisa-1909-537013/
BEGIN:VALARM
TRIGGER:-PT15M
ACTION:DISPLAY
DESCRIPTION:Match starts soon
END:VALARM
END:VEVENT
END:VCALENDAR
