BEGIN:VCALENDAR
VERSION:2.0
PRODID:-//WhenKickoff//Match Reminder//EN
BEGIN:VEVENT
UID:wk-537012-15@whenkickoff.com
DTSTAMP:20260420T121858Z
DTSTART:20260112T194500Z
DTEND:20260112T214500Z
SUMMARY:Juventus FC vs US Cremonese
DESCRIPTION:WhenKickoff reminder for Juventus FC vs US Cremonese
URL:https://whenkickoff.com/en/match/juventus-fc-vs-us-cremonese-537012/
BEGIN:VALARM
TRIGGER:-PT15M
ACTION:DISPLAY
DESCRIPTION:Match starts soon
END:VALARM
END:VEVENT
END:VCALENDAR
