BEGIN:VCALENDAR
VERSION:2.0
PRODID:-//WhenKickoff//Match Reminder//EN
BEGIN:VEVENT
UID:wk-537011-15@whenkickoff.com
DTSTAMP:20260420T142930Z
DTSTART:20260111T194500Z
DTEND:20260111T214500Z
SUMMARY:FC Internazionale Milano vs SSC Napoli
DESCRIPTION:WhenKickoff reminder for FC Internazionale Milano vs SSC Napoli
URL:https://whenkickoff.com/en/match/fc-internazionale-milano-vs-ssc-napoli-537011/
BEGIN:VALARM
TRIGGER:-PT15M
ACTION:DISPLAY
DESCRIPTION:Match starts soon
END:VALARM
END:VEVENT
END:VCALENDAR
