BEGIN:VCALENDAR
VERSION:2.0
PRODID:-//WhenKickoff//Match Reminder//EN
BEGIN:VEVENT
UID:wk-537010-15@whenkickoff.com
DTSTAMP:20260420T142812Z
DTSTART:20260111T170000Z
DTEND:20260111T190000Z
SUMMARY:Hellas Verona FC vs SS Lazio
DESCRIPTION:WhenKickoff reminder for Hellas Verona FC vs SS Lazio
URL:https://whenkickoff.com/en/match/hellas-verona-fc-vs-ss-lazio-537010/
BEGIN:VALARM
TRIGGER:-PT15M
ACTION:DISPLAY
DESCRIPTION:Match starts soon
END:VALARM
END:VEVENT
END:VCALENDAR
