BEGIN:VCALENDAR
VERSION:2.0
PRODID:-//WhenKickoff//Match Reminder//EN
BEGIN:VEVENT
UID:wk-537008-15@whenkickoff.com
DTSTAMP:20260420T121859Z
DTSTART:20260112T173000Z
DTEND:20260112T193000Z
SUMMARY:Genoa CFC vs Cagliari Calcio
DESCRIPTION:WhenKickoff reminder for Genoa CFC vs Cagliari Calcio
URL:https://whenkickoff.com/en/match/genoa-cfc-vs-cagliari-calcio-537008/
BEGIN:VALARM
TRIGGER:-PT15M
ACTION:DISPLAY
DESCRIPTION:Match starts soon
END:VALARM
END:VEVENT
END:VCALENDAR
