BEGIN:VCALENDAR
VERSION:2.0
PRODID:-//WhenKickoff//Match Reminder//EN
BEGIN:VEVENT
UID:wk-537007-15@whenkickoff.com
DTSTAMP:20260420T121859Z
DTSTART:20260110T194500Z
DTEND:20260110T214500Z
SUMMARY:Atalanta BC vs Torino FC
DESCRIPTION:WhenKickoff reminder for Atalanta BC vs Torino FC
URL:https://whenkickoff.com/en/match/atalanta-bc-vs-torino-fc-537007/
BEGIN:VALARM
TRIGGER:-PT15M
ACTION:DISPLAY
DESCRIPTION:Match starts soon
END:VALARM
END:VEVENT
END:VCALENDAR
