BEGIN:VCALENDAR
VERSION:2.0
PRODID:-//WhenKickoff//Match Reminder//EN
BEGIN:VEVENT
UID:wk-537006-15@whenkickoff.com
DTSTAMP:20260420T142812Z
DTSTART:20260110T170000Z
DTEND:20260110T190000Z
SUMMARY:AS Roma vs US Sassuolo Calcio
DESCRIPTION:WhenKickoff reminder for AS Roma vs US Sassuolo Calcio
URL:https://whenkickoff.com/en/match/as-roma-vs-us-sassuolo-calcio-537006/
BEGIN:VALARM
TRIGGER:-PT15M
ACTION:DISPLAY
DESCRIPTION:Match starts soon
END:VALARM
END:VEVENT
END:VCALENDAR
