BEGIN:VCALENDAR
VERSION:2.0
PRODID:-//WhenKickoff//Match Reminder//EN
BEGIN:VEVENT
UID:wk-537005-15@whenkickoff.com
DTSTAMP:20260420T102836Z
DTSTART:20260111T140000Z
DTEND:20260111T160000Z
SUMMARY:ACF Fiorentina vs AC Milan
DESCRIPTION:WhenKickoff reminder for ACF Fiorentina vs AC Milan
URL:https://whenkickoff.com/en/match/acf-fiorentina-vs-ac-milan-537005/
BEGIN:VALARM
TRIGGER:-PT15M
ACTION:DISPLAY
DESCRIPTION:Match starts soon
END:VALARM
END:VEVENT
END:VCALENDAR
