BEGIN:VCALENDAR
VERSION:2.0
PRODID:-//WhenKickoff//Match Reminder//EN
BEGIN:VEVENT
UID:wk-537003-15@whenkickoff.com
DTSTAMP:20260420T140055Z
DTSTART:20260108T173000Z
DTEND:20260108T193000Z
SUMMARY:US Cremonese vs Cagliari Calcio
DESCRIPTION:WhenKickoff reminder for US Cremonese vs Cagliari Calcio
URL:https://whenkickoff.com/en/match/us-cremonese-vs-cagliari-calcio-537003/
BEGIN:VALARM
TRIGGER:-PT15M
ACTION:DISPLAY
DESCRIPTION:Match starts soon
END:VALARM
END:VEVENT
END:VCALENDAR
