BEGIN:VCALENDAR
VERSION:2.0
PRODID:-//WhenKickoff//Match Reminder//EN
BEGIN:VEVENT
UID:wk-536999-15@whenkickoff.com
DTSTAMP:20260420T160907Z
DTSTART:20260107T194500Z
DTEND:20260107T214500Z
SUMMARY:Parma Calcio 1913 vs FC Internazionale Milano
DESCRIPTION:WhenKickoff reminder for Parma Calcio 1913 vs FC Internazionale Milano
URL:https://whenkickoff.com/en/match/parma-calcio-1913-vs-fc-internazionale-milano-536999/
BEGIN:VALARM
TRIGGER:-PT15M
ACTION:DISPLAY
DESCRIPTION:Match starts soon
END:VALARM
END:VEVENT
END:VCALENDAR
