BEGIN:VCALENDAR
VERSION:2.0
PRODID:-//WhenKickoff//Match Reminder//EN
BEGIN:VEVENT
UID:wk-536997-15@whenkickoff.com
DTSTAMP:20260420T160825Z
DTSTART:20260107T194500Z
DTEND:20260107T214500Z
SUMMARY:Torino FC vs Udinese Calcio
DESCRIPTION:WhenKickoff reminder for Torino FC vs Udinese Calcio
URL:https://whenkickoff.com/en/match/torino-fc-vs-udinese-calcio-536997/
BEGIN:VALARM
TRIGGER:-PT15M
ACTION:DISPLAY
DESCRIPTION:Match starts soon
END:VALARM
END:VEVENT
END:VCALENDAR
