BEGIN:VCALENDAR
VERSION:2.0
PRODID:-//WhenKickoff//Match Reminder//EN
BEGIN:VEVENT
UID:wk-536995-15@whenkickoff.com
DTSTAMP:20260420T121858Z
DTSTART:20260108T194500Z
DTEND:20260108T214500Z
SUMMARY:AC Milan vs Genoa CFC
DESCRIPTION:WhenKickoff reminder for AC Milan vs Genoa CFC
URL:https://whenkickoff.com/en/match/ac-milan-vs-genoa-cfc-536995/
BEGIN:VALARM
TRIGGER:-PT15M
ACTION:DISPLAY
DESCRIPTION:Match starts soon
END:VALARM
END:VEVENT
END:VCALENDAR
