BEGIN:VCALENDAR
VERSION:2.0
PRODID:-//WhenKickoff//Match Reminder//EN
BEGIN:VEVENT
UID:wk-536994-15@whenkickoff.com
DTSTAMP:20260420T160824Z
DTSTART:20260103T140000Z
DTEND:20260103T160000Z
SUMMARY:US Sassuolo Calcio vs Parma Calcio 1913
DESCRIPTION:WhenKickoff reminder for US Sassuolo Calcio vs Parma Calcio 1913
URL:https://whenkickoff.com/en/match/us-sassuolo-calcio-vs-parma-calcio-1913-536994/
BEGIN:VALARM
TRIGGER:-PT15M
ACTION:DISPLAY
DESCRIPTION:Match starts soon
END:VALARM
END:VEVENT
END:VCALENDAR
