BEGIN:VCALENDAR
VERSION:2.0
PRODID:-//WhenKickoff//Match Reminder//EN
BEGIN:VEVENT
UID:wk-536993-15@whenkickoff.com
DTSTAMP:20260420T175319Z
DTSTART:20260104T113000Z
DTEND:20260104T133000Z
SUMMARY:SS Lazio vs SSC Napoli
DESCRIPTION:WhenKickoff reminder for SS Lazio vs SSC Napoli
URL:https://whenkickoff.com/en/match/ss-lazio-vs-ssc-napoli-536993/
BEGIN:VALARM
TRIGGER:-PT15M
ACTION:DISPLAY
DESCRIPTION:Match starts soon
END:VALARM
END:VEVENT
END:VCALENDAR
