BEGIN:VCALENDAR
VERSION:2.0
PRODID:-//WhenKickoff//Match Reminder//EN
BEGIN:VEVENT
UID:wk-536992-15@whenkickoff.com
DTSTAMP:20260420T173900Z
DTSTART:20260103T170000Z
DTEND:20260103T190000Z
SUMMARY:Juventus FC vs US Lecce
DESCRIPTION:WhenKickoff reminder for Juventus FC vs US Lecce
URL:https://whenkickoff.com/en/match/juventus-fc-vs-us-lecce-536992/
BEGIN:VALARM
TRIGGER:-PT15M
ACTION:DISPLAY
DESCRIPTION:Match starts soon
END:VALARM
END:VEVENT
END:VCALENDAR
