BEGIN:VCALENDAR
VERSION:2.0
PRODID:-//WhenKickoff//Match Reminder//EN
BEGIN:VEVENT
UID:wk-536991-15@whenkickoff.com
DTSTAMP:20260420T160823Z
DTSTART:20260104T194500Z
DTEND:20260104T214500Z
SUMMARY:FC Internazionale Milano vs Bologna FC 1909
DESCRIPTION:WhenKickoff reminder for FC Internazionale Milano vs Bologna FC 1909
URL:https://whenkickoff.com/en/match/fc-internazionale-milano-vs-bologna-fc-1909-536991/
BEGIN:VALARM
TRIGGER:-PT15M
ACTION:DISPLAY
DESCRIPTION:Match starts soon
END:VALARM
END:VEVENT
END:VCALENDAR
