BEGIN:VCALENDAR
VERSION:2.0
PRODID:-//WhenKickoff//Match Reminder//EN
BEGIN:VEVENT
UID:wk-536990-15@whenkickoff.com
DTSTAMP:20260420T160823Z
DTSTART:20260104T170000Z
DTEND:20260104T190000Z
SUMMARY:Hellas Verona FC vs Torino FC
DESCRIPTION:WhenKickoff reminder for Hellas Verona FC vs Torino FC
URL:https://whenkickoff.com/en/match/hellas-verona-fc-vs-torino-fc-536990/
BEGIN:VALARM
TRIGGER:-PT15M
ACTION:DISPLAY
DESCRIPTION:Match starts soon
END:VALARM
END:VEVENT
END:VCALENDAR
