BEGIN:VCALENDAR
VERSION:2.0
PRODID:-//WhenKickoff//Match Reminder//EN
BEGIN:VEVENT
UID:wk-536989-15@whenkickoff.com
DTSTAMP:20260420T160825Z
DTSTART:20260103T113000Z
DTEND:20260103T133000Z
SUMMARY:Como 1907 vs Udinese Calcio
DESCRIPTION:WhenKickoff reminder for Como 1907 vs Udinese Calcio
URL:https://whenkickoff.com/en/match/como-1907-vs-udinese-calcio-536989/
BEGIN:VALARM
TRIGGER:-PT15M
ACTION:DISPLAY
DESCRIPTION:Match starts soon
END:VALARM
END:VEVENT
END:VCALENDAR
