BEGIN:VCALENDAR
VERSION:2.0
PRODID:-//WhenKickoff//Match Reminder//EN
BEGIN:VEVENT
UID:wk-536988-15@whenkickoff.com
DTSTAMP:20260420T160906Z
DTSTART:20260103T140000Z
DTEND:20260103T160000Z
SUMMARY:Genoa CFC vs AC Pisa 1909
DESCRIPTION:WhenKickoff reminder for Genoa CFC vs AC Pisa 1909
URL:https://whenkickoff.com/en/match/genoa-cfc-vs-ac-pisa-1909-536988/
BEGIN:VALARM
TRIGGER:-PT15M
ACTION:DISPLAY
DESCRIPTION:Match starts soon
END:VALARM
END:VEVENT
END:VCALENDAR
