BEGIN:VCALENDAR
VERSION:2.0
PRODID:-//WhenKickoff//Match Reminder//EN
BEGIN:VEVENT
UID:wk-536987-15@whenkickoff.com
DTSTAMP:20260420T175319Z
DTSTART:20260102T194500Z
DTEND:20260102T214500Z
SUMMARY:Cagliari Calcio vs AC Milan
DESCRIPTION:WhenKickoff reminder for Cagliari Calcio vs AC Milan
URL:https://whenkickoff.com/en/match/cagliari-calcio-vs-ac-milan-536987/
BEGIN:VALARM
TRIGGER:-PT15M
ACTION:DISPLAY
DESCRIPTION:Match starts soon
END:VALARM
END:VEVENT
END:VCALENDAR
