BEGIN:VCALENDAR
VERSION:2.0
PRODID:-//WhenKickoff//Match Reminder//EN
BEGIN:VEVENT
UID:wk-536986-15@whenkickoff.com
DTSTAMP:20260420T173858Z
DTSTART:20260103T194500Z
DTEND:20260103T214500Z
SUMMARY:Atalanta BC vs AS Roma
DESCRIPTION:WhenKickoff reminder for Atalanta BC vs AS Roma
URL:https://whenkickoff.com/en/match/atalanta-bc-vs-as-roma-536986/
BEGIN:VALARM
TRIGGER:-PT15M
ACTION:DISPLAY
DESCRIPTION:Match starts soon
END:VALARM
END:VEVENT
END:VCALENDAR
