BEGIN:VCALENDAR
VERSION:2.0
PRODID:-//WhenKickoff//Match Reminder//EN
BEGIN:VEVENT
UID:wk-536985-15@whenkickoff.com
DTSTAMP:20260420T160826Z
DTSTART:20260104T140000Z
DTEND:20260104T160000Z
SUMMARY:ACF Fiorentina vs US Cremonese
DESCRIPTION:WhenKickoff reminder for ACF Fiorentina vs US Cremonese
URL:https://whenkickoff.com/en/match/acf-fiorentina-vs-us-cremonese-536985/
BEGIN:VALARM
TRIGGER:-PT15M
ACTION:DISPLAY
DESCRIPTION:Match starts soon
END:VALARM
END:VEVENT
END:VCALENDAR
