BEGIN:VCALENDAR
VERSION:2.0
PRODID:-//WhenKickoff//Match Reminder//EN
BEGIN:VEVENT
UID:wk-536984-15@whenkickoff.com
DTSTAMP:20260421T034446Z
DTSTART:20251227T140000Z
DTEND:20251227T160000Z
SUMMARY:US Lecce vs Como 1907
DESCRIPTION:WhenKickoff reminder for US Lecce vs Como 1907
URL:https://whenkickoff.com/en/match/us-lecce-vs-como-1907-536984/
BEGIN:VALARM
TRIGGER:-PT15M
ACTION:DISPLAY
DESCRIPTION:Match starts soon
END:VALARM
END:VEVENT
END:VCALENDAR
