BEGIN:VCALENDAR
VERSION:2.0
PRODID:-//WhenKickoff//Match Reminder//EN
BEGIN:VEVENT
UID:wk-536983-15@whenkickoff.com
DTSTAMP:20260421T015201Z
DTSTART:20251228T140000Z
DTEND:20251228T160000Z
SUMMARY:US Cremonese vs SSC Napoli
DESCRIPTION:WhenKickoff reminder for US Cremonese vs SSC Napoli
URL:https://whenkickoff.com/en/match/us-cremonese-vs-ssc-napoli-536983/
BEGIN:VALARM
TRIGGER:-PT15M
ACTION:DISPLAY
DESCRIPTION:Match starts soon
END:VALARM
END:VEVENT
END:VCALENDAR
