BEGIN:VCALENDAR
VERSION:2.0
PRODID:-//WhenKickoff//Match Reminder//EN
BEGIN:VEVENT
UID:wk-536982-15@whenkickoff.com
DTSTAMP:20260421T015202Z
DTSTART:20251227T170000Z
DTEND:20251227T190000Z
SUMMARY:Udinese Calcio vs SS Lazio
DESCRIPTION:WhenKickoff reminder for Udinese Calcio vs SS Lazio
URL:https://whenkickoff.com/en/match/udinese-calcio-vs-ss-lazio-536982/
BEGIN:VALARM
TRIGGER:-PT15M
ACTION:DISPLAY
DESCRIPTION:Match starts soon
END:VALARM
END:VEVENT
END:VCALENDAR
