BEGIN:VCALENDAR
VERSION:2.0
PRODID:-//WhenKickoff//Match Reminder//EN
BEGIN:VEVENT
UID:wk-536980-15@whenkickoff.com
DTSTAMP:20260421T015201Z
DTSTART:20251227T113000Z
DTEND:20251227T133000Z
SUMMARY:Parma Calcio 1913 vs ACF Fiorentina
DESCRIPTION:WhenKickoff reminder for Parma Calcio 1913 vs ACF Fiorentina
URL:https://whenkickoff.com/en/match/parma-calcio-1913-vs-acf-fiorentina-536980/
BEGIN:VALARM
TRIGGER:-PT15M
ACTION:DISPLAY
DESCRIPTION:Match starts soon
END:VALARM
END:VEVENT
END:VCALENDAR
