BEGIN:VCALENDAR
VERSION:2.0
PRODID:-//WhenKickoff//Match Reminder//EN
BEGIN:VEVENT
UID:wk-536979-15@whenkickoff.com
DTSTAMP:20260421T034445Z
DTSTART:20251227T140000Z
DTEND:20251227T160000Z
SUMMARY:Torino FC vs Cagliari Calcio
DESCRIPTION:WhenKickoff reminder for Torino FC vs Cagliari Calcio
URL:https://whenkickoff.com/en/match/torino-fc-vs-cagliari-calcio-536979/
BEGIN:VALARM
TRIGGER:-PT15M
ACTION:DISPLAY
DESCRIPTION:Match starts soon
END:VALARM
END:VEVENT
END:VCALENDAR
