BEGIN:VCALENDAR
VERSION:2.0
PRODID:-//WhenKickoff//Match Reminder//EN
BEGIN:VEVENT
UID:wk-536978-15@whenkickoff.com
DTSTAMP:20260421T040134Z
DTSTART:20251228T170000Z
DTEND:20251228T190000Z
SUMMARY:Bologna FC 1909 vs US Sassuolo Calcio
DESCRIPTION:WhenKickoff reminder for Bologna FC 1909 vs US Sassuolo Calcio
URL:https://whenkickoff.com/en/match/bologna-fc-1909-vs-us-sassuolo-calcio-536978/
BEGIN:VALARM
TRIGGER:-PT15M
ACTION:DISPLAY
DESCRIPTION:Match starts soon
END:VALARM
END:VEVENT
END:VCALENDAR
