BEGIN:VCALENDAR
VERSION:2.0
PRODID:-//WhenKickoff//Match Reminder//EN
BEGIN:VEVENT
UID:wk-536977-15@whenkickoff.com
DTSTAMP:20260421T034553Z
DTSTART:20251228T194500Z
DTEND:20251228T214500Z
SUMMARY:Atalanta BC vs FC Internazionale Milano
DESCRIPTION:WhenKickoff reminder for Atalanta BC vs FC Internazionale Milano
URL:https://whenkickoff.com/en/match/atalanta-bc-vs-fc-internazionale-milano-536977/
BEGIN:VALARM
TRIGGER:-PT15M
ACTION:DISPLAY
DESCRIPTION:Match starts soon
END:VALARM
END:VEVENT
END:VCALENDAR
