BEGIN:VCALENDAR
VERSION:2.0
PRODID:-//WhenKickoff//Match Reminder//EN
BEGIN:VEVENT
UID:wk-536976-15@whenkickoff.com
DTSTAMP:20260421T034446Z
DTSTART:20251229T194500Z
DTEND:20251229T214500Z
SUMMARY:AS Roma vs Genoa CFC
DESCRIPTION:WhenKickoff reminder for AS Roma vs Genoa CFC
URL:https://whenkickoff.com/en/match/as-roma-vs-genoa-cfc-536976/
BEGIN:VALARM
TRIGGER:-PT15M
ACTION:DISPLAY
DESCRIPTION:Match starts soon
END:VALARM
END:VEVENT
END:VCALENDAR
