BEGIN:VCALENDAR
VERSION:2.0
PRODID:-//WhenKickoff//Match Reminder//EN
BEGIN:VEVENT
UID:wk-536975-15@whenkickoff.com
DTSTAMP:20260421T034553Z
DTSTART:20251228T113000Z
DTEND:20251228T133000Z
SUMMARY:AC Milan vs Hellas Verona FC
DESCRIPTION:WhenKickoff reminder for AC Milan vs Hellas Verona FC
URL:https://whenkickoff.com/en/match/ac-milan-vs-hellas-verona-fc-536975/
BEGIN:VALARM
TRIGGER:-PT15M
ACTION:DISPLAY
DESCRIPTION:Match starts soon
END:VALARM
END:VEVENT
END:VCALENDAR
