BEGIN:VCALENDAR
VERSION:2.0
PRODID:-//WhenKickoff//Match Reminder//EN
BEGIN:VEVENT
UID:wk-536970-15@whenkickoff.com
DTSTAMP:20260420T083924Z
DTSTART:20260114T194500Z
DTEND:20260114T214500Z
SUMMARY:FC Internazionale Milano vs US Lecce
DESCRIPTION:WhenKickoff reminder for FC Internazionale Milano vs US Lecce
URL:https://whenkickoff.com/en/match/fc-internazionale-milano-vs-us-lecce-536970/
BEGIN:VALARM
TRIGGER:-PT15M
ACTION:DISPLAY
DESCRIPTION:Match starts soon
END:VALARM
END:VEVENT
END:VCALENDAR
