BEGIN:VCALENDAR
VERSION:2.0
PRODID:-//WhenKickoff//Match Reminder//EN
BEGIN:VEVENT
UID:wk-536969-15@whenkickoff.com
DTSTAMP:20260420T083928Z
DTSTART:20260115T173000Z
DTEND:20260115T193000Z
SUMMARY:Hellas Verona FC vs Bologna FC 1909
DESCRIPTION:WhenKickoff reminder for Hellas Verona FC vs Bologna FC 1909
URL:https://whenkickoff.com/en/match/hellas-verona-fc-vs-bologna-fc-1909-536969/
BEGIN:VALARM
TRIGGER:-PT15M
ACTION:DISPLAY
DESCRIPTION:Match starts soon
END:VALARM
END:VEVENT
END:VCALENDAR
