BEGIN:VCALENDAR
VERSION:2.0
PRODID:-//WhenKickoff//Match Reminder//EN
BEGIN:VEVENT
UID:wk-536968-15@whenkickoff.com
DTSTAMP:20260420T083924Z
DTSTART:20260115T194500Z
DTEND:20260115T214500Z
SUMMARY:Como 1907 vs AC Milan
DESCRIPTION:WhenKickoff reminder for Como 1907 vs AC Milan
URL:https://whenkickoff.com/en/match/como-1907-vs-ac-milan-536968/
BEGIN:VALARM
TRIGGER:-PT15M
ACTION:DISPLAY
DESCRIPTION:Match starts soon
END:VALARM
END:VEVENT
END:VCALENDAR
